BEGIN:VCALENDAR
METHOD:PUBLISH
PRODID:Data::ICal 0.13
VERSION:2.0
BEGIN:VEVENT
DESCRIPTION:Get ready to laugh all night with the&nbsp;We Them Ones Comedy Tour, coming to&nbsp;EagleBank Arena&nbsp;on&nbsp;Sunday, March 1, 2026, at 7:00 PM! Hosted by the hilarious&nbsp;Mike Epps, the show features comedy heavyweights&nbsp;Karlous Miller, Chico Bean, DC Young Fly, and more. 



Don’t miss your chance to see these fan-favorite comedians live on stage for a night full of laughs, energy, and unforgettable moments! 



Click here to purchase tickets
DTSTAMP:20260421T090531Z
DTSTART;TZID=America/New_York:20260301T190000
DTEND;TZID=America/New_York:20260301T220000
LOCATION:4500 Patriot Circle\, Fairfax\, VA\, 22030
SUMMARY:We Them Ones Comedy Tour – Live at EagleBank Arena!
UID:5730862-1772391600-1772402400
END:VEVENT
END:VCALENDAR
