BEGIN:VCALENDAR
METHOD:PUBLISH
PRODID:Data::ICal 0.13
VERSION:2.0
BEGIN:VEVENT
DESCRIPTION:Join us for &quot;Straight Talk About Prostate Cancer: Going Beyond the Controversies To Empower Black Men&quot; - Wednesday, Feb 1st at 1pm EST on the Majic 102.3/ 92.7 Facebook Page, Radio One DC YouTube, and MyMajicDC.com\n\nHosted by Keith A. Battle\nAuthor, Founder and Senior Pastor\nZion Church\n\nhttps://www.youtube.com/watch?v=Y8EbnGfgALM\n\nWith Special Panelists\n\nOtis Brawley\nAssociate Director, Community Outreach and Engagement Sidney Kimmel Comprehensive Cancer Center; Professor of Oncology\n\nCurtiland Deville Jr, M.D.\nMedical Director; Johns Hopkins Proton Therapy Center;\nAssociate Professor of Radiation Oncology and Molecular Radiation Sciences, Johns Hopkins University School of Medicine\n\nClayton Yates, Ph.D., M.S.\nProfessor of Pathology and Oncology, Johns Hopkins University School of Medicine\n\nRobert Carey\nPatient advocate\n\nPresented by Johns Hopkins Medicine
DTSTAMP:20260422T050115Z
DTSTART;TZID=America/New_York:20230201T130000
DTEND;TZID=America/New_York:20230201T140000
LOCATION:
SUMMARY:Straight Talk About Prostate Cancer Presented by Johns Hopkins Medicine
UID:4776419-1675256400-1675260000
END:VEVENT
END:VCALENDAR
