BEGIN:VCALENDAR
METHOD:PUBLISH
PRODID:Data::ICal 0.13
VERSION:2.0
BEGIN:VEVENT
DESCRIPTION:Join Majic 102.3 for the 4th Annual SHE IS… a virtual empowerment event celebrating the many achievements of women. Watch it live on the Radio One DC YouTube channel on Thursday, March 28th at 7pm. \nShe Is Powerful... She Is Smart... She is Accomplished... She IS... exclusively from Majic 102.3.
DTSTAMP:20260421T165105Z
DTSTART;TZID=America/New_York:20240328T190000
DTEND;TZID=America/New_York:20240328T200000
LOCATION:
SUMMARY:SHE IS A Virtual Empowerment Event
UID:5262841-1711652400-1711656000
END:VEVENT
END:VCALENDAR
