BEGIN:VCALENDAR
METHOD:PUBLISH
PRODID:Data::ICal 0.13
VERSION:2.0
BEGIN:VEVENT
DESCRIPTION:Majic Presents “The RBRM Tour” Featuring Ronnie, Bobby, Ricky &amp; Mike From New Edition! That&#039;s Right… Bobby Brown &amp; BBD along with special guests Blackstreet Featuring Teddy Riley, Tamia &amp; 702. Saturday, September 29th At The Eagle Bank Arena!\n\nListen For Your Chance To Win Tickets Or Buy Them At TicketMaster.com \n\n&nbsp;\nClick Here To Purchase Your Tickets
DTSTAMP:20260425T163458Z
DTSTART;TZID=America/New_York:20180929T200000
DTEND;TZID=America/New_York:20180930T235900
LOCATION:4500 Patriot Cir\, Fairfax\, VA\, 22030
SUMMARY:Majic Presents The &#8220;RBRM Tour&#8221;
UID:3794552-1538251200-1538351940
END:VEVENT
END:VCALENDAR
