BEGIN:VCALENDAR
METHOD:PUBLISH
PRODID:Data::ICal 0.13
VERSION:2.0
BEGIN:VEVENT
DESCRIPTION:Join us for the rebroadcast of &quot;Paving the Way Forward&quot; - Your Keys To Homeownership, Presented by Wells Fargo and The National Foundation for Credit Counseling on Wednesday, December 18th  at 1pm ET\n\nhttps://www.youtube.com/watch?v=HAwX08tQeBo\n\nWatch on the Majic 102.3/92.7 Facebook Page, Radio One DC YouTube and MyMajicDC.com - hosted by Pastor Keith Battle of Zion Baptist Church.\n\nStart here with the Homebuying basics.\n\nNo two homebuying journeys look exactly the same, and the path is rarely a straight line. But the whole process can feel simpler if you break it down, so start by understanding the process.  \n\nFor more information visit \nhttps://wellsfargo.com/mortgageeducation
DTSTAMP:20260422T180807Z
DTSTART;TZID=America/New_York:20241218T130000
DTEND;TZID=America/New_York:20241218T140000
LOCATION:
SUMMARY:Paving the Way Forward&#8221; &#8211; Your Keys To Homeownership
UID:5469778-1734526800-1734530400
END:VEVENT
END:VCALENDAR
