BEGIN:VCALENDAR
METHOD:PUBLISH
PRODID:Data::ICal 0.13
VERSION:2.0
BEGIN:VEVENT
DESCRIPTION:Paving The Way Forward - Your Keys To Homeownership\n\nhttps://www.youtube.com/watch?v=uLHFTPwakaQ\n\nWatch LIVE on the Majic 102.3/92.7 Facebook Page, Radio One DC YouTube and MyMajicDC.com!\n\nStart here with the Homebuying basics.\n\nNo two homebuying journeys look exactly the same, and the path is rarely a straight line. But the whole process can feel simpler if you break it down, so start by understanding the process.\n\nFor more information visit\nhttps://wellsfargo.com/mortgageeducation
DTSTAMP:20260422T180817Z
DTSTART;TZID=America/New_York:20241119T130000
DTEND;TZID=America/New_York:20241119T140000
LOCATION:
SUMMARY:Paving The Way Forward &#8211; Your Keys To Homeownership
UID:5453020-1732021200-1732024800
END:VEVENT
END:VCALENDAR
