BEGIN:VCALENDAR
METHOD:PUBLISH
PRODID:Data::ICal 0.13
VERSION:2.0
BEGIN:VEVENT
DESCRIPTION:[caption id=&quot;attachment_3574730&quot; align=&quot;alignnone&quot; width=&quot;1024&quot;] Source: Lets Groove Ent / Lets Groove Ent[/caption]
DTSTAMP:20260424T231156Z
DTSTART;TZID=America/New_York:20150717T104500
DTEND;TZID=America/New_York:20150717T104500
LOCATION:14900 Pennsylvania Avenue\, Upper Marlboro\, MD\, 20772
SUMMARY:Funk Fest 70&#8217;s Soul Sound @ Showplace Arena (7/17/15)
UID:3602135-1437129900-1437129900
END:VEVENT
END:VCALENDAR
