BEGIN:VCALENDAR
METHOD:PUBLISH
PRODID:Data::ICal 0.13
VERSION:2.0
BEGIN:VEVENT
DESCRIPTION:Join Vic Jagger, Huggy Lowdown, DJ Dirty Rico, and the Majic family at Ellsworth Plaza in Downtown Silver Spring on Saturday, December 20, from 12 p.m.–2 p.m. for Holiday Majic! Bring the whole family for an afternoon of holiday cheer featuring music, prizes, and fun for everyone. 



We’ll also have the famous Red Kettle from the Salvation Army National Capital Area Command and FREE gifts with a $75+ purchase from select retailers. 



Let’s bring the holiday spirit to the DMV—see you there!
DTSTAMP:20260422T134125Z
DTSTART;TZID=America/New_York:20251220T120000
DTEND;TZID=America/New_York:20251220T140000
LOCATION:8661 Colesville Rd\, Silver Spring\, MD\, 20910
SUMMARY:Celebrate Holiday Majic in Silver Spring!
UID:5732258-1766232000-1766239200
END:VEVENT
END:VCALENDAR
