BEGIN:VCALENDAR
METHOD:PUBLISH
PRODID:Data::ICal 0.13
VERSION:2.0
BEGIN:VEVENT
DESCRIPTION:Join us for a special Town Hall - &quot;Answer the Call: Increasing Black Representation in Medical Research&quot;  Wednesday,  August 28th at 1pm EST LIVE on the Majic DC Facebook page, Radio One DC YouTube and MyMajicDC.com - presented by Burroughs Welcome Fund.\n\nAn in-depth discussion on the need for increasing Black experiences in medical research aimed at diseases and disorders directly affecting minority populations, including preeclampsia research and other studies on Black maternal health.\n\nhttps://www.youtube.com/watch?v=I_72cPKut9s\n\n\nHosted by Asia\n\n\n\nSpecial Panelists\n-----------------------\n\nTRASHAUN POWELL\npreeclampsia survivor\nPreeclampsia Foundation Take 10 for\nPreeclampsia Research Ambassador,\n&amp; maternal health advocate\n\nDR. TONII GEDIN\nHealth Officer\nAnne Arundel County\nDepartment of Health\n\nMARISA SPANN, PHD, MPH\nHerbert Irving Associate Professor\nColumbia University, Vagelos College\nof Physicians and Surgeons
DTSTAMP:20260422T164140Z
DTSTART;TZID=America/New_York:20240828T130000
DTEND;TZID=America/New_York:20240828T140000
LOCATION:
SUMMARY:Answer the Call: Increasing Black Representation in Medical Research
UID:5404423-1724850000-1724853600
END:VEVENT
END:VCALENDAR
